BEGIN:VCALENDAR
VERSION:2.0
PRODID:-//eventon.com NONSGML v1.0//EN
CALSCALE:GREGORIAN
METHOD:PUBLISH
BEGIN:VEVENT
UID:69e8f1a920b7c
DTSTAMP:20260422T160457Z
DTSTART:20260422T120000Z
DTEND:20260422T131500Z
LOCATION:VANNES - Quartier Kercado -Ã  proximitÃ© de la rue Le Menez de Kerdelleau\,  prÃ¨s du DSU
SUMMARY:VANNES - FÃªtons le printemps [Kercado] (suite)
DESCRIPTION:L&rsquo;Ã©quipe de PaQ&rsquo;la Lune Ã  Vannes t&rsquo;invite Ã
   son temps fort de changement de SAISON. La SAISON de la Lune se termine e
 t laissera bientÃ´t la place Ã  la SAISON du Soleil. Rendez-vous de 15h30 Ã
   18h30 Ã  l&rsquo;aire de jeu Plein Ciel pour des ateliers et animations t
 out public.\nhttps://paqlalune.fr/events/vannes-fetons-le-printemps-kercado
 -suite/
URL:https://paqlalune.fr/events/vannes-fetons-le-printemps-kercado-suite/
END:VEVENT
END:VCALENDAR