BEGIN:VCALENDAR
VERSION:2.0
PRODID:-//eventon.com NONSGML v1.0//EN
CALSCALE:GREGORIAN
METHOD:PUBLISH
BEGIN:VEVENT
UID:69e5dcd60a73c
DTSTAMP:20260420T075918Z
DTSTART:20260527T130000Z
DTEND:20260527T170000Z
LOCATION:ANGERS - 32 rue de Nozay [Monplaisir] 32 Rue de Nozay 49100 Angers
SUMMARY:ANGERS - Fête du Printemps 2026 [MONPLAISIR]
DESCRIPTION:Angers Monplaisir RdV sur la Terrasse du Grand Nozé de Monplai
 sir à Angers pour fêter l&rsquo;arrivée des beaux jours ! Au programme :
  animations\,  concert\,  friperie et collations ! Entrée libre\nhttps://p
 aqlalune.fr/events/angers-fete-du-printemps-2026-monplaisir/
URL:https://paqlalune.fr/events/angers-fete-du-printemps-2026-monplaisir/
END:VEVENT
END:VCALENDAR